BEGIN:VCALENDAR
VERSION:2.0
PRODID:-//Umpires Club Hub - ECPv6.15.12.2//NONSGML v1.0//EN
CALSCALE:GREGORIAN
METHOD:PUBLISH
X-WR-CALNAME:Umpires Club Hub
X-ORIGINAL-URL:https://aflseclubhub.com.au/umpires
X-WR-CALDESC:Events for Umpires Club Hub
REFRESH-INTERVAL;VALUE=DURATION:PT1H
X-Robots-Tag:noindex
X-PUBLISHED-TTL:PT1H
BEGIN:VTIMEZONE
TZID:Australia/Melbourne
BEGIN:STANDARD
TZOFFSETFROM:+1100
TZOFFSETTO:+1000
TZNAME:AEST
DTSTART:20220402T160000
END:STANDARD
BEGIN:DAYLIGHT
TZOFFSETFROM:+1000
TZOFFSETTO:+1100
TZNAME:AEDT
DTSTART:20221001T160000
END:DAYLIGHT
BEGIN:STANDARD
TZOFFSETFROM:+1100
TZOFFSETTO:+1000
TZNAME:AEST
DTSTART:20230401T160000
END:STANDARD
BEGIN:DAYLIGHT
TZOFFSETFROM:+1000
TZOFFSETTO:+1100
TZNAME:AEDT
DTSTART:20230930T160000
END:DAYLIGHT
BEGIN:STANDARD
TZOFFSETFROM:+1100
TZOFFSETTO:+1000
TZNAME:AEST
DTSTART:20240406T160000
END:STANDARD
BEGIN:DAYLIGHT
TZOFFSETFROM:+1000
TZOFFSETTO:+1100
TZNAME:AEDT
DTSTART:20241005T160000
END:DAYLIGHT
END:VTIMEZONE
BEGIN:VEVENT
DTSTART;TZID=Australia/Melbourne:20230208T180000
DTEND;TZID=Australia/Melbourne:20230208T200000
DTSTAMP:20260424T042830
CREATED:20230208T013331Z
LAST-MODIFIED:20230208T013331Z
UID:412-1675879200-1675886400@aflseclubhub.com.au
SUMMARY:Training @ Kananook Reserve
DESCRIPTION:Training @ Kananook Reserve. \n6pm to 7.15pm \nSession Details Here
URL:https://aflseclubhub.com.au/umpires/event/training-kananook-reserve/
END:VEVENT
END:VCALENDAR